Workbook

Sheet Лист1
C4: Предварительный расчет нагрузок жилой застройки
B5: 44705 | C5: Куркино | D5: Вар. 6
B6: № поз. | C6: Вид/Наименование объекта строительства | D6: Показатели площади | H6: Показатели вместимости объектов | K6: Расчет нагрузок водопровода и канализации по СП.30.13330.2020 | Y6: Расчет тепловой нагрузки СП 124.13330.2012 | AF6: Расход природного газа м³/ч | AG6: Котельная Гкал/ч | AH6: Внутриплощадочные тепловые сети из расчета 7 млн. руб/га | AI6: Расчет электрической нагрузки по СП 256.1325800.2016 и РД 34.20.185-94 | AL6: Внутриплощадочные сети связи (при обязательствах в строительстве)
D8: Общая площадь земельного участка, Га (с вычетом УДС) | E8: Общая площадь (м2) | F8: Общая площадь земельного участка, Га | G8: Продаваемая площадь (м²) | H8: Норма площади на человека, машино-место,м2 | I8: Количество квартир | J8: Количество жителей./машин/посещений в смену | K8: Удельные нормы расхода воды, л/сут. | L8: Водопровод, м³/сут | M8: ВЗУ, м³/сут | N8: Внутриплощадочные сети водопровода | O8: Канализация, м3/сут | P8: Внутриплощадочные сети канализации | R8: Водосток (с коэффициентом заполнения свободной емкости трубы 0,65), л/сек | S8: ЛОС накопительного типа (с обводной линией), м³/сут | T8: ЛНС, л/сек | U8: Внутриплощадочные сети водостока | V8: Внеплощадочные сети водостока/канализации,метров. | W8: КОС, м³/сут | X8: КНС, м³/сут | Y8: Отопление | AA8: Вентиляция | AC8: ГВС | AE8: ВСЕГО, Гкал/ч | AI8: Удельная электрическая нагрузка Вт/м2, Вт/место | AJ8: Электрическая нагрузка на шинах ТП (кВт) | AK8: Внутриплощадочные сети наружного освещения
Q9: Водосток | Y9: Удельная тепловая нагрузка Вт/м² | Z9: Тепловая нагрузка Отопление Гкал/ч | AA9: Удельная тепловая нагрузка Вт/м² | AB9: Тепловая нагрузка Вентиляция Гкал/ч | AC9: Удельная тепловая макс. нагрузка Вт/м² | AD9: Тепловая нагрузка ГВС макс.часовая Гкал/ч
C10: 1 | D10: =C10+1 -> 2 | E10: =D10+1 -> 3 | F10: =E10+1 -> 4 | G10: =F10+1 -> 5 | H10: =G10+1 -> 6 | I10: =H10+1 -> 7 | J10: =I10+1 -> 8 | K10: =J10+1 -> 9 | ... P10: =O10+1 -> 14 | Q10: 15 | R10: 16 | S10: 17 | T10: =S10+1 -> 18 | U10: =T10+1 -> 19 | V10: 20 | W10: 21 | X10: =W10+1 -> 22 | Y10: =X10+1 -> 23 | Z10: =Y10+1 -> 24 | AA10: =Z10+1 -> 25 | AB10: =AA10+1 -> 26 | AC10: =AB10+1 -> 27 | AD10: =AC10+1 -> 28 | AE10: =AD10+1 -> 29 | ... AH10: =AG10+1 -> 32 | AI10: 33 | AJ10: =AI10+1 -> 34 | AK10: 35 | AL10: 36
B11: Нагрузки энергопотребления и ресурсов для получения технических условий на присоединение
B12: 1 | C12: Площадь ЗУ (Га) | D12: =1.27 -> 1.27 | F12: 1.2
B13: =B12+1 -> 2 | AJ13: =I13*1.19*0.8*1.086 -> 0
B14: =B13+1 -> 3 | C14: Жилые дома | E14: 38000 | G14: 25479 | H14: 28 | I14: 567 | J14: 567 | K14: 180 | L14: =J14*K14/1000 -> 102.06 | O14: =J14*K14/1000 -> 102.06 | Y14: 36 | Z14: =Y14*E14/1000000/1.163 -> 1.1762683 | AA14: 0 | AB14: 0 | AC14: 32.55 | AD14: =AC14*G14/1.163/1000000 -> 0.71310529 | AE14: =Z14+AB14+AD14 -> 1.8893736 | AF14: =AE14*1000000/8000/0.9 -> 262.41299 | AI14: 21.8 | AJ14: =(G14*AI14/1000) -> 555.4422
B15: =B14+1 -> 4 | C15: Кондиционирование в т.ч. | AJ15: =G14*AI15/1000 -> 0
B16: =B15+1 -> 5 | C16: БКФН | E16: =1396+229 -> 1625 | G16: 1625 | J16: =G16/4.5 -> 361.11111 | K16: 12 | L16: =J16*K16/1000 -> 4.3333333 | O16: =J16*K16/1000 -> 4.3333333 | Y16: 70 | Z16: =Y16*E16/1000000/1.163 -> 0.097807395 | AA16: 0 | AB16: =AA16*E16*H16/1000000/1.163 -> 0 | AC16: 3 | AD16: =AC16*E16/1.163/1000000 -> 0.0041917455 | AE16: =Z16+AB16+AD16 -> 0.10199914 | AF16: =AE16*1000000/8000/0.9 -> 14.166547 | AI16: 200 | AJ16: =(G16*AI16)/1000 -> 325
B17: =B16+1 -> 6 | C17: Кладовые | AA17: 55 | AB17: =AA17*G17/1000000/1.163 -> 0 | AE17: =AB17 -> 0 | AF17: =AE17*1000000/8000/0.9 -> 0 | AI17: 5 | AJ17: =(G17*AI17)/1000 -> 0
B18: =B17+1 -> 7 | C18: Офисы (БЦ) | E18: 331 | J18: =E18/4.5 -> 73.555556 | K18: 12 | L18: =J18*K18/1000 -> 0.88266667 | O18: =J18*K18/1000 -> 0.88266667 | Y18: 36 | Z18: =Y18*E18/1000000/1.163 -> 0.010245916 | AA18: 55 | AB18: =AA18*E18/1000000/1.163 -> 0.015653482 | AC18: 4.89 | AD18: =J18*5.1*55*1.2/8/1000000 -> 0.00309485 | AE18: =Z18+AB18+AD18 -> 0.028994248 | AF18: =AE18*1000000/8000/0.9 -> 4.0269789 | AI18: 54 | AJ18: =(E18*AI18)/1000 -> 17.874
B19: =B18+1 -> 8 | C19: Торговый центр | J19: =E19/30 -> 0 | K19: 12 | L19: =J19*K19/1000 -> 0 | O19: =J19*K19/1000 -> 0 | Y19: 56 | Z19: =Y19*E19/1000000/1.163 -> 0 | AA19: 85 | AB19: =AA19*E19/1000000/1.163 -> 0 | AD19: =AC19*E19/1000000/1.163 -> 0 | AE19: =Z19+AB19+AD19 -> 0 | AF19: =AE19*1000000/8000/0.9 -> 0 | AI19: 115 | AJ19: =(E19*AI19)/1000 -> 0
B20: =B19+1 -> 9 | C20: ФОК с бассейном | J20: =E20/30 -> 0 | K20: 443 | L20: =J20*K20/1000 -> 0 | O20: =J20*K20/1000 -> 0 | Y20: 59 | Z20: =Y20*E20/1000000/1.163 -> 0 | AA20: 96 | AB20: =AA20*E20/1000000/1.163 -> 0 | AC20: 68 | AD20: =AC20*E20/1000000/1.163 -> 0 | AE20: =Z20+AB20+AD20 -> 0 | AF20: =AE20*1000000/8000/0.9 -> 0 | AI20: 100 | AJ20: =E20*AI20/1000 -> 0
B21: =B20+1 -> 10 | C21: ФОК без бассейна | H21: - | J21: =E21/30 -> 0 | Y21: 45 | Z21: =Y21*E21/1000000/1.163 -> 0 | AA21: 55 | AB21: =AA21*E21/1000000/1.163 -> 0 | AC21: 17.5 | AD21: =AC21*E21/1000000/1.163 -> 0 | AE21: =Z21+AB21+AD21 -> 0 | AF21: =AE21*1000000/8000/0.9 -> 0 | AI21: 80 | AJ21: =E21*AI21/1000 -> 0
B22: =B21+1 -> 11 | C22: ДОУ | E22: 1143 | H22: 19.23 | J22: 100 | K22: 90 | L22: =J22*K22/1000 -> 9 | O22: =J22*K22/1000 -> 9 | Y22: 49 | Z22: =Y22*E22/1000000/1.163 -> 0.048157352 | AA22: 20.6 | AB22: =AA22*E22/1000000/1.163 -> 0.020245744 | AC22: 46 | AD22: =AC22*G22/1000000/1.163 -> 0 | AE22: =Z22+AB22+AD22 -> 0.068403095 | AF22: =AE22*1000000/8000/0.9 -> 9.5004299 | AI22: 460 | AJ22: =J22*AI22/1000 -> 46
B23: =B22+1 -> 12 | C23: МОП 1эт+ вспомогтельн | E23: 361 | H23: 20 | J23: 20 | K23: 16 | L23: =J23*K23/1000 -> 0.32 | O23: =J23*K23/1000 -> 0.32 | Y23: 53 | Z23: =Y23*E23/1000000/1.163 -> 0.016451419 | AA23: 52 | AB23: =AA23*E23/1000000/1.163 -> 0.016141015 | AC23: 37 | AD23: =AC23*G23/1000000/1.163 -> 0 | AE23: =Z23+AB23+AD23 -> 0.032592433 | AF23: =AE23*1000000/8000/0.9 -> 4.5267269 | AI23: 250 | AJ23: =J23*AI23/1000 -> 5
B24: =B23+1 -> 13 | C24: Подземный паркинг | E24: 1628 | J24: 148 | K24: 0.36 | L24: =J24*K24/1000 -> 0.05328 | O24: =J24*K24/1000 -> 0.05328 | Y24: 0 | Z24: =Y24*E24/1000000/1.163 -> 0 | AA24: 59 | AB24: =AA24*E24/1000000/1.163 -> 0.082589854 | AC24: 0 | AD24: =AC24*E24/1000000/1.163 -> 0 | AE24: =Z24+AB24+AD24 -> 0.082589854 | AF24: =AE24*1000000/8000/0.9 -> 11.470813 | AI24: 500 | AJ24: =(J24*AI24)/1000 -> 74
B25: =B24+1 -> 14 | C25: Наземный паркинг | E25: 0 | H25: 31.5 | J25: 0 | K25: 0.36 | L25: =J25*K25/1000 -> 0 | O25: =J25*K25/1000 -> 0 | AI25: 10 | AJ25: =E25*AI25/1000 -> 0
B26: =B25+1 -> 15 | C26: Поликлиника | E26: 0 | H26: 11.7 | J26: 0 | K26: 13 | L26: =J26*K26/1000 -> 0 | O26: =J26*K26/1000 -> 0 | Y26: 49 | Z26: =Y26*E26/1000000/1.163 -> 0 | AA26: 20.6 | AB26: =AA26*E26/1000000/1.163 -> 0 | AC26: 3 | AD26: =AC26*G26/1000000/1.163 -> 0 | AE26: =Z26+AB26+AD26 -> 0 | AF26: =AE26*1000000/8000/0.9 -> 0 | AI26: 550 | AJ26: =(J26*AI26)/1000 -> 0
B27: =B26+1 -> 16 | C27: Наружное освещение | AJ27: =IF(2.6*F12<10,10,2.6*F12) -> 10
B28: =B27+1 -> 17 | C28: Субабоненты (существ.) | AE28: 0
B29: =B28+1 -> 18 | C29: Инженерные сооружения (КНС, Котельная и т.д.) | AJ29: =0.087*M30*0+0.099*S30+(0.029*T30+0.071*W30)*0+0.029*X30+7.49*AG30 -> 33.372927
B30: =B29+1 -> 19 | C30: ИТОГО (из ТУ): | E30: =SUM(E13:E26)-E13 -> 43088 | G30: =G14+G16+G18 -> 27104 | L30: 297 | M30: =L30 -> 297 | O30: =L30 -> 297 | R30: =D12*80*0.65 -> 66.04 | S30: =(D12*0.7*10*10)/48*24 -> 44.45 | T30: 155 | V30: 100 | W30: =O30 -> 297 | X30: =O30 -> 297 | Z30: =SUM(Z14:Z26) -> 1.3489304 | AB30: =SUM(AB14:AB26) -> 0.13463009 | AD30: =SUM(AD14:AD26) -> 0.72039188 | AE30: =SUM(AE14:AE28) -> 2.2039523 | AF30: =AG30*1000000/8000 -> 339.77598 | AG30: =AE30*1.11/0.9 -> 2.7182079 | AJ30: 1626
B31: =B30+1 -> 20 | C31: Стоимость подключения | L31: =L30*84800 -> 25185600 | M31: =M30*112000 -> 33264000 | O31: =O30*127200 -> 37778400 | Q31: =D12*21000000 -> 26670000 | S31: =S30*192000 -> 8534400 | T31: =T30*32000 -> 4960000 | W31: =W30*144000 -> 42768000 | X31: =X30*19200 -> 5702400 | AE31: =AE30*23100000 -> 50911299 | AF31: =4550*AF30+1499*AF30*8.52+16499 -> 5901921.9 | AG31: =AG30*20000000 -> 54364157 | AJ31: =AJ30*35000 -> 56910000 | AL31: 15000000
B32: =B31+1 -> 21 | C32: Стоимость строительства внутриплощадочных сетй (канализация 3,22 млн.руб/Га, водопровод 6,3 млн.руб/Га, водосток 7 млн.руб/Га, тепловые сети 7 млн.руб/Га, сети связи 4,06 млн.руб/Га, сети НО 4,8 млн. руб/га) | N32: =D12*6300000 -> 8001000 | P32: =D12*3220000 -> 4089400 | U32: =D12*7000000 -> 8890000 | V32: =V30*126000 -> 12600000 | AH32: =D12*7000000 -> 8890000 | AK32: =F12*4800000 -> 5760000
B33: =B32+1 -> 22 | C33: Еденицы изм. | L33: м³/сут | O33: м³/сут | Z33: Вт | AB33: Вт | AD33: Вт | AE33: Вт | AF33: м³/ч | AG33: Вт | AJ33: Вт
B34: =B33+1 -> 23 | C34: Удельная нагрузка на 1 м² (общей площади) | L34: =L30/E30 -> 0.0068928704 | O34: =O30/E30 -> 0.0068928704 | Z34: =Z30/$E$30*1.163*1000000 -> 36.409348 | AB34: =AB30/$E$30*1.163*1000000 -> 3.6338377 | AD34: =AD30/$E$30*1.163*1000000 -> 19.444294 | AE34: =AE30/$E$30*1.163*1000000 -> 59.487481 | AF34: =AF30/E30 -> 0.007885629 | AG34: =AG30*1.163*1000000/E30 -> 73.367893 | AJ34: =AJ30/$E$30*1000 -> 37.736725
B35: =B34+1 -> 24 | C35: Удельная нагрузка на 1 м² (продаваемой площади) | L35: =L30/G30 -> 0.010957792 | O35: =O30/G30 -> 0.010957792 | Z35: =Z30/$G$30*1.163*1000000 -> 57.880977 | AB35: =AB30/$G$30*1.163*1000000 -> 5.7768152 | AD35: =AD30/$G$30*1.163*1000000 -> 30.911148 | AE35: =AE30/$G$30*1.163*1000000 -> 94.56894 | AF35: =AF30/G30 -> 0.012536009 | AG35: =AG30*1000000*1.163/G30 -> 116.63503 | AJ35: =AJ30/G30*1000 -> 59.991145
B36: 25 | C36: Стоимость подключения на 1 м² продаваемой площади | D36: С головными сооружениями | H36: Без головных сооружений
H37: =L37+N37+O37+P37+U37+X37+AJ37+AL37+AK37+AF37+AG37+AH37+S37+V37 -> 9504.4008 | L37: =L31/G30 -> 929.22078 | M37: =M31/G30 -> 1227.2727 | N37: =N32/G30 -> 295.19628 | O37: =O31/G30 -> 1393.8312 | P37: =P32/G30 -> 150.8781 | Q37: =Q31/G30 -> 983.9876 | S37: =S31/G30 -> 314.87603 | T37: =T31/G30 -> 182.99882 | U37: =U32/G30 -> 327.99587 | V37: =V32/G30 -> 464.87603 | W37: =W31/G30 -> 1577.9221 | X37: =X31/G30 -> 210.38961 | AE37: =AE31/G30 -> 1878.3685 | AF37: =AF31/G30 -> 217.75096 | AG37: =AG31/G30 -> 2005.7614 | AH37: =AH32/G30 -> 327.99587 | AJ37: =AJ31/G30 -> 2099.6901 | AK37: =AK32/G30 -> 212.51476 | AL37: =AL31/G30 -> 553.42385
B39: 26 | C39: Удельная нагрузка на 1 м² продоваемой площади по стандарту | L39: 0.007 | O39: 0.007 | AE39: 7.1e-05 | AJ39: 40
B40: 27 | C40: Удельная нагрузка на 1 м² продоваемой площади по расчету (Гкал/м2, Вт/м2,м3/сут/м2) | L40: =L35 -> 0.010957792 | O40: =O35 -> 0.010957792 | AE40: =AE35/1000000/1.163 -> 8.1314652e-05 | AJ40: =AJ35 -> 59.991145
C42: Примечание: Расчет электрических нагрузок приведен на шины ТП.
B44: Примечание УИС:
C45: 1. Подключение по инженерке по договорам ТП.
C46: 2. Кол-во жителей определено исходя из обеспеченности 28 м2/чел.
C47: 3. Расчет стоимости подключения СС учтен и составляет - 15 млн. руб.. В БКФН и в офисах (БЦ) число работающих исходя из 4,5 м2/чел.
...

Sheet Затраты на сети
A1: № | B1: сети | C1: затраты К=1 | D1: К=1,25
A2: 1 | B2: Водоснабжение | C2: =Лист1!L31+Лист1!O32+Лист1!L52 -> 55185600 | D2: =C2*1.25 -> 68982000
A3: 2 | B3: Канализация хоз.быт | C3: =Лист1!O31+Лист1!P32 -> 41867800 | D3: =C3*1.25 -> 52334750
A4: 3 | B4: Ливневая канализация | C4: =Лист1!S31+Лист1!U32+Лист1!V32 -> 30024400 | D4: =C4*1.25 -> 37530500
A5: 4 | B5: Теплоснабжение | C5: =Лист1!AF31+Лист1!AG31+Лист1!AH32 -> 69156079 | D5: =C5*1.25 -> 86445099
A6: 5 | B6: Элетроснабжение | C6: =Лист1!AJ31+Лист1!AK32+Лист1!L51 -> 73070000 | D6: =C6*1.25 -> 91337500
A7: 6 | B7: СС | C7: =Лист1!AL31+Лист1!L53 -> 28476000 | D7: =C7*1.25 -> 35595000
C8: =SUM(C2:C7) -> 2.9777988e+08 | D8: =SUM(D2:D7) -> 3.7222485e+08
